BEGIN:VCALENDAR
VERSION:2.0
PRODID:-//hacksw/handcal//NONSGML v1.0//EN
CALSCALE:GREGORIAN
BEGIN:VEVENT
UID:69e88d87dc2ca
DTSTAMP:20260422T085743
DTSTART:20250602T000000
DTEND:20250602T000000
LOCATION:
DESCRIPTION:Pagamento do Imposto  Único de Circulação, relativo a Veículos cujo aniversário da matrícula ocorra no mês de maio.
URL;VALUE=URI:
SUMMARY:IUC
END:VEVENT
END:VCALENDAR